BEGIN:VCALENDAR
VERSION:2.0
PRODID:-//Peter Hess Academy Australia - ECPv4.8.1//NONSGML v1.0//EN
CALSCALE:GREGORIAN
METHOD:PUBLISH
X-WR-CALNAME:Peter Hess Academy Australia
X-ORIGINAL-URL:http://peter-hess-academy.com.au
X-WR-CALDESC:Events for Peter Hess Academy Australia
BEGIN:VEVENT
DTSTART;VALUE=DATE:20200314
DTEND;VALUE=DATE:20200316
DTSTAMP:20200229T175052
CREATED:20191105T120352Z
LAST-MODIFIED:20191105T121121Z
UID:1739-1584144000-1584316799@peter-hess-academy.com.au
SUMMARY:Sound Massage Level I - East Fremantle
DESCRIPTION:\nThis basic course of sound massage\, can form an opening point for your new career or a new skill for your personal growth and healing. \n\n\nThis seminar is primarily devoted to learning about and experiencing the Peter Hess® method and gives specific instructions on how you can use the bowls and the sound massage for yourself\, your family and friends. \nWhere: East Fremantle\, WA \nTeaching: Ute Coleman \nPrerequisite: none \nRecognised for: Peter Hess® Sound Massage Practitioner\, KliK – Sound for Children Practitioner/ Expert \nCurriculum: here \nWhen: 14-15 March 2020 \nTimes: 9am to 5pm \nPrice: $400.00 \n  \nPrice includes Certificate of completion\, written course materials (student booklet)\, morning and afternoon tea\, training equipment for duration of the course. Meals and accommodation are not included.\nEquipment: Peter Hess singing bowls\, gongs and other instruments are provided for the training needs. All are available for purchase after the course. \nMeals: Only morning and afternoon tea is provided by Peter Hess Academy Australia. \nBookings: Essential\, here \nWhat to bring: warm\, comfortable clothing\, socks\, (blanket and pillow if possible). \n\nMassage table if you own one (not necessary).\nAlthough student booklet is provided\, you may bring pen and paper to make notes.\nYour cheerful disposition\n\nL1WA14032020 \n\n\n\n
URL:http://peter-hess-academy.com.au/event/sound-massage-2/
LOCATION:A Place to Just Be – Perth\, 4 Preston Point Rd\, East Fremantle\, WA\, Australia
CATEGORIES:Level I,WA
ATTACH;FMTTYPE=image/jpeg:http://peter-hess-academy.com.au/wp-content/uploads/2019/11/PH-SM-L1-single-workshop-3.jpg
ORGANIZER;CN="SoundRelaxation":MAILTO:soundrelaxation@hotmail.com
END:VEVENT
END:VCALENDAR