BEGIN:VCALENDAR
VERSION:2.0
PRODID:-//Peter Hess Academy Australia - ECPv4.8.1//NONSGML v1.0//EN
CALSCALE:GREGORIAN
METHOD:PUBLISH
X-WR-CALNAME:Peter Hess Academy Australia
X-ORIGINAL-URL:http://peter-hess-academy.com.au
X-WR-CALDESC:Events for Peter Hess Academy Australia
BEGIN:VEVENT
DTSTART;VALUE=DATE:20200314
DTEND;VALUE=DATE:20200318
DTSTAMP:20200229T174209
CREATED:20191105T115118Z
LAST-MODIFIED:20191105T115807Z
UID:1735-1584144000-1584489599@peter-hess-academy.com.au
SUMMARY:Sound Massage Level I and II - East Fremantle
DESCRIPTION:\nThese two basic courses of sound massage\, can form an opening point for your new career in Sound Therapy or a new skill for your personal growth and healing. \nThe curriculum is primarily devoted to learning and experiencing the Peter Hess® method and gives specific instructions on how you can use the bowls and the sound massage for yourself\, your family and friends.  You will also learn about subtle energies and use of instruments such as gongs\, cymbals and chimes.  Here is your chance to do this in a safe and friendly atmosphere . \n  \nYou can book the Sound Massage I and II can individually\, but also in the block. Block trainings are self-contained\, so you have the advantage that the entire training is completed in the same group of participants. \n(Sound massage III + IV is also run in the block.) \nWhere: East Fremantle\, WA \nTeaching: Ute Coleman \nPrerequisite: none \nRecognised for: Peter Hess® Sound Massage Practitioner\, KliK – Sound for Children Practitioner/ Expert \nCurriculum Level I: here \nCurriculum Level II: here \nWhen: 14-17 March 2020 \nTimes: 9am to 5pm \nExtent: 32 hours \nPrice: $800.00 \nPrice includes Certificate of completion\, written course materials (student booklet)\, morning and afternoon tea\, training equipment for duration of the course. Meals and accommodation are not included.\nEquipment: Peter Hess singing bowls\, gongs and other instruments are provided for the training needs. All are available for purchase after the course. \nMeals: Only morning and afternoon tea is provided by Peter Hess Academy Australia. \nBookings: Essential\, here \nWhat to bring: warm\, comfortable clothing\, socks\, (blanket and pillow if possible). \n\nMassage table if you own one (not necessary).\nAlthough student booklet is provided\, you may bring pen and paper to make notes.\nYour cheerful disposition\n\n  \nL1-2WA14032020 \n\n\n\n
URL:http://peter-hess-academy.com.au/event/l1-2wa14032020/
LOCATION:A Place to Just Be – Perth\, 4 Preston Point Rd\, East Fremantle\, WA\, Australia
CATEGORIES:Level I + II,WA
ATTACH;FMTTYPE=image/jpeg:http://peter-hess-academy.com.au/wp-content/uploads/2019/11/Peter-Hess®-Sound-Massage-Level-I-and-II-2.jpg
ORGANIZER;CN="SoundRelaxation":MAILTO:soundrelaxation@hotmail.com
END:VEVENT
END:VCALENDAR