BEGIN:VCALENDAR
VERSION:2.0
PRODID:-//Peter Hess Academy Australia - ECPv4.8.1//NONSGML v1.0//EN
CALSCALE:GREGORIAN
METHOD:PUBLISH
X-WR-CALNAME:Peter Hess Academy Australia
X-ORIGINAL-URL:http://peter-hess-academy.com.au
X-WR-CALDESC:Events for Peter Hess Academy Australia
BEGIN:VEVENT
DTSTART;VALUE=DATE:20200308
DTEND;VALUE=DATE:20200309
DTSTAMP:20200229T173011
CREATED:20191213T180240Z
LAST-MODIFIED:20191220T181805Z
UID:1788-1583625600-1583711999@peter-hess-academy.com.au
SUMMARY:KliK®1 - Playing and learning with all senses
DESCRIPTION:\nfor children from 3 to 5 years old and beyond\nA workshop for educators\, teachers\, parents\, grandparents and anyone who wants to use Singing Bowls with children. \nPrerequisite: none \nScope: 6 hours \nCost: $220 \nSinging Bowls stimulate all senses. They shine with a golden glow\, and if you touch them with your fingertips or activate them with a mallet they emit varied and complex sounds. This sets both an acoustic and vibrotactile stimulus which simultaneously activates the auditory and somatosensory perception –  hearing and touch. The sound fosters body awareness and touches it in an emotionally soothing way. \nIn this workshop you will learn different sound games with Singing Bowls\, which are wonderful to play with children. \nThe games: \n\nTrain the sensory perception\, which is the central basis for communication and learning\nPromote coarse and fine motor skills\nMotivate the children and thereby strengthen their concentration and endurance\nStimulate the imagination and thus promote creativity as an important basis for solution competence\nStrengthen the social and communication skills of children\n\nJoin us on a journey of discovery and get to know the many possibilities of the use of Singing Bowls! \nKLIK1_080320 \n\n\n\n
URL:http://peter-hess-academy.com.au/event/klik1_080320/
LOCATION:Movement Solutions\, Shop 2/30 Fearn Avenue\, Margaret River\, WA\, 6285\, Australia
CATEGORIES:KLIK,WA
ATTACH;FMTTYPE=image/png:http://peter-hess-academy.com.au/wp-content/uploads/2019/03/Screen-Shot-2019-03-11-at-7.03.02-pm.png
ORGANIZER;CN="SoundRelaxation":MAILTO:soundrelaxation@hotmail.com
END:VEVENT
END:VCALENDAR